BEGIN:VCALENDAR
VERSION:2.0
PRODID:-//ЛАБОРАТОРИЯ ФИЗИКИ ВЫСОКИХ ЭНЕРГИЙ - ECPv5.8.1//NONSGML v1.0//EN
CALSCALE:GREGORIAN
METHOD:PUBLISH
X-WR-CALNAME:ЛАБОРАТОРИЯ ФИЗИКИ ВЫСОКИХ ЭНЕРГИЙ
X-ORIGINAL-URL:https://lhep.jinr.ru
X-WR-CALDESC:События для ЛАБОРАТОРИЯ ФИЗИКИ ВЫСОКИХ ЭНЕРГИЙ
BEGIN:VTIMEZONE
TZID:Europe/Moscow
BEGIN:STANDARD
TZOFFSETFROM:+0300
TZOFFSETTO:+0300
TZNAME:MSK
DTSTART:20210101T000000
END:STANDARD
END:VTIMEZONE
BEGIN:VEVENT
DTSTART;TZID=Europe/Moscow:20210407T103000
DTEND;TZID=Europe/Moscow:20210407T113000
DTSTAMP:20260422T111528
CREATED:20210705T090834Z
LAST-MODIFIED:20210705T090834Z
UID:521-1617791400-1617795000@lhep.jinr.ru
SUMMARY:Семинар
DESCRIPTION:7 апреля\, 10-30. Он-лайн семинар \n“Происхождение галактических космических лучей”. \nБаренбаум А.А. (Институт проблем нефти и газа РАН) \nОбсуждается гипотеза о происхождении галактических космических лучей (ГКЛ). Согласно этой гипотезе частицы космической плазмы\, ускоренные быстро вращающимся спиральным электромагнитным полем Галактики\, образуют ГКЛ и приходят к Земле преимущественно с расстояний 1-2 кпк от Солнца. Эти выводы опираются на установленный механизм ускорения электронов\, излучающих в струях радио галактик. Показано\, что ускорение заряженных частиц до релятивистских энергий происходит в генерируемых галактиками электромагнитных полях специфической спиральной конфигурации. Применение теории синхротронного излучения обнаруживает единство механизмов ускорения электронов в струях радиогалактик и ядерных частиц ГКЛ\, что вполне объясняет степенной спектр ГКЛ с изломом в области «колена» (~3×1015 эВ/нуклон)\, его особенности в области «лодыжки»\, а также образование частиц с энергией ~1020 эВ/нуклон\, превышающей предел Грайзена-Зацепина-Кузьмина (5.6×1019 эВ/нуклон). \n  \nhttps://jinr.webex.com/meet/kokoulina \nmeeting number: 183 151 9868
URL:https://lhep.jinr.ru/event/seminar/
LOCATION:онлайн
END:VEVENT
BEGIN:VEVENT
DTSTART;TZID=Europe/Moscow:20210408T110000
DTEND;TZID=Europe/Moscow:20210408T120000
DTSTAMP:20260422T111528
CREATED:20210705T091034Z
LAST-MODIFIED:20210705T091034Z
UID:523-1617879600-1617883200@lhep.jinr.ru
SUMMARY:Научно-методический семинар
DESCRIPTION:8 апреля в 11:00 состоится онлайн-заседание научно-методического семинара по теме: \n«Main results of neutronical study about ADS with ion beams and implications on experiments planning» \n\n\nДокладчик: Параипан Михаела Мария (1\,2) \n\n1. ЛФВЭ ОИЯИ\, Отделение №5 Научно–методических исследований и инноваций\, Научно-методический отдел кремниевых трековых систем\, Сектор №1 прикладных радиационных технологий.\n2. Institute of Space Science\, Romania.\n\n\nThe conditions which maximize the efficiency of an accelerator driven systems (ADS) were analyzed through simulation with the toolkit Geant4. The influence of particle beam\, accelerator type\, target geometry and composition are studied\, searching for the conditions which ensure high energy gain\, safe exploitation and deeper burning of the actinides\, with longer periods between refueling. A core with criticality coefficient keff of 0.985-0.988\, lower enrichment\, converter of beryllium with radius 10-20 cm and length 110-120 cm represents a proper choice. The advantage of ion beams from 7Li and 20Ne with energies from 0.25 AGeV to 0.75 AGeV is underlined.\n\nA proposal for the design of a target dedicated to the experimental study is presented. The target consists of rods from enriched U (5-10 % 235U) distributed in 6-8 layers inside a cylinder from Pb or graphite\, with length 150 cm and radius 70 cm. The central part of cylinder is empty\, allowing the placement of different converters. \n\n\n\n\n\n\n\n\n\nСсылка на онлайн-заседание: https://jinr.webex.com/join/igork-work или номер комнаты: 174 758 0072\n\nОткрытие комнаты планируется за 15 минут до начала заседания.\n\nИнструкция по работе в системе видеоконференций WebEx: https://webex.jinr.ru/rus/
URL:https://lhep.jinr.ru/event/nauchno-metodicheskij-seminar-4/
LOCATION:онлайн
END:VEVENT
END:VCALENDAR