BEGIN:VCALENDAR
VERSION:2.0
PRODID:-//ЛАБОРАТОРИЯ ФИЗИКИ ВЫСОКИХ ЭНЕРГИЙ - ECPv5.8.1//NONSGML v1.0//EN
CALSCALE:GREGORIAN
METHOD:PUBLISH
X-WR-CALNAME:ЛАБОРАТОРИЯ ФИЗИКИ ВЫСОКИХ ЭНЕРГИЙ
X-ORIGINAL-URL:https://lhep.jinr.ru
X-WR-CALDESC:События для ЛАБОРАТОРИЯ ФИЗИКИ ВЫСОКИХ ЭНЕРГИЙ
BEGIN:VTIMEZONE
TZID:Europe/Moscow
BEGIN:STANDARD
TZOFFSETFROM:+0300
TZOFFSETTO:+0300
TZNAME:MSK
DTSTART:20210101T000000
END:STANDARD
END:VTIMEZONE
BEGIN:VEVENT
DTSTART;VALUE=DATE:20210915
DTEND;VALUE=DATE:20210917
DTSTAMP:20260422T115248
CREATED:20210819T122820Z
LAST-MODIFIED:20210819T122820Z
UID:666-1631664000-1631836799@lhep.jinr.ru
SUMMARY:Международный круглый стол по прикладным исследованиям на комплексе NICA
DESCRIPTION:Международный круглый стол по прикладным исследованиям на комплексе NICA \n15 — 16 сентября 2021 г.\, ЛФВЭ\, Дубна (очно-заочный формат)
URL:https://lhep.jinr.ru/event/mezhdunarodnyj-kruglyj-stol-po-prikladnym-issledovaniyam-na-komplekse-nica/
LOCATION:конференц-зал корпуса №3 ЛФВЭ
END:VEVENT
BEGIN:VEVENT
DTSTART;VALUE=DATE:20210923
DTEND;VALUE=DATE:20210925
DTSTAMP:20260422T115248
CREATED:20210819T123654Z
LAST-MODIFIED:20210819T123654Z
UID:674-1632355200-1632527999@lhep.jinr.ru
SUMMARY:130-я сессия Ученого совета ОИЯИ
DESCRIPTION:130-я сессия Ученого совета ОИЯИ \n23 — 24 сентября 2021 г. Дом международных совещаний\, Дубна \nПрограмма сессии Ученого совета
URL:https://lhep.jinr.ru/event/130-ya-sessiya-uchenogo-soveta-oiyai/
LOCATION:Дом международных совещаний\, Дубна
END:VEVENT
BEGIN:VEVENT
DTSTART;VALUE=DATE:20210926
DTEND;VALUE=DATE:20211003
DTSTAMP:20260422T115248
CREATED:20210819T123238Z
LAST-MODIFIED:20210819T123238Z
UID:668-1632614400-1633219199@lhep.jinr.ru
SUMMARY:XXVII Российская конференция по ускорителям заряженных частиц RuPAC 2021
DESCRIPTION:XXVII Российская конференция по ускорителям заряженных частиц RuPAC 2021 \n26 сентября — 2 октября 2021 г. Пансионат «Дубна»\, Алушта\, Крым
URL:https://lhep.jinr.ru/event/xxvii-rossijskaya-konferentsiya-po-uskoritelyam-zaryazhennyh-chastits-rupac-2021/
LOCATION:г. Алушта\, Крым
END:VEVENT
BEGIN:VEVENT
DTSTART;TZID=Europe/Moscow:20210926T110000
DTEND;TZID=Europe/Moscow:20210926T110000
DTSTAMP:20260422T115248
CREATED:20210909T102656Z
LAST-MODIFIED:20210909T102656Z
UID:759-1632654000-1632654000@lhep.jinr.ru
SUMMARY:Пробег имени В. И. Векслера
DESCRIPTION:26 сентября 2021 года состоится 52-й традиционный легкоатлетический пробег памяти академика В. И. Векслера. \nПриглашаем всех желающих!\nСтарт от плавательного бассейна «Архимед»: \n\nв 11:00 – на дистанцию 1 км;\nв 11:30 – на дистанции 4 и 8 км;\n\nВ пробеге принимают участие спортсмены из Дубны и других городов Московской и Тверской областей. \nОрганизаторы: ЛФВЭ\, Спорткомплекс ОИЯИ\, управление по физической культуре\, спорту и делам молодежи города Дубна.
URL:https://lhep.jinr.ru/event/probeg-imeni-v-i-vekslera/
END:VEVENT
END:VCALENDAR