BEGIN:VCALENDAR
VERSION:2.0
PRODID:-//ЛАБОРАТОРИЯ ФИЗИКИ ВЫСОКИХ ЭНЕРГИЙ - ECPv5.8.1//NONSGML v1.0//EN
CALSCALE:GREGORIAN
METHOD:PUBLISH
X-WR-CALNAME:ЛАБОРАТОРИЯ ФИЗИКИ ВЫСОКИХ ЭНЕРГИЙ
X-ORIGINAL-URL:https://lhep.jinr.ru
X-WR-CALDESC:События для ЛАБОРАТОРИЯ ФИЗИКИ ВЫСОКИХ ЭНЕРГИЙ
BEGIN:VTIMEZONE
TZID:Europe/Moscow
BEGIN:STANDARD
TZOFFSETFROM:+0300
TZOFFSETTO:+0300
TZNAME:MSK
DTSTART:20210101T000000
END:STANDARD
END:VTIMEZONE
BEGIN:VEVENT
DTSTART;TZID=Europe/Moscow:20210210T110000
DTEND;TZID=Europe/Moscow:20210210T120000
DTSTAMP:20260423T064550
CREATED:20210705T091310Z
LAST-MODIFIED:20210705T091510Z
UID:525-1612954800-1612958400@lhep.jinr.ru
SUMMARY:Специализированный семинар им. А.М. Балдина “Релятивистская ядерная физика и поляризационные явления” № 791
DESCRIPTION:П.И. Зарубин.  \n«Корреляция в образовании ядер 8Be и α-частиц во фрагментации релятивистских ядер». \nВ событиях периферической диссоциации релятивистских ядер в ядерной эмульсии возможно изучение возникающих ансамблей ядер He и H\, в том числе из распадов нестабильных ядер 8Be и 9B\, а также состояния Хойла. Эти крайне короткоживущие состояния идентифицируются по инвариантным массам\, вычисляемым по углам в 2α-парах\, 2αp– и 3α-тройках в приближении сохранения импульса на нуклон первичного ядра. В том же подходе возможен поиск более сложных состояний. В настоящей работе исследуется корреляция между образованием ядер 8Be и множественностью сопровождающих α-частиц в диссоциации релятивистских ядер 16О\, 22Ne\, 28Si и 197Au. На этой основе представлены оценки такой корреляции для нестабильного ядра 9B и состояния Хойла. Обнаружено усиление вклада 8Be в диссоциацию с множественностью α-частиц. Той же тенденции следуют распады ядер 9B и состояния Хойла. [arxiv.org/abs/2102.09541] \nВеб-сайт: https://jinr.webex.com/join/stepan.shimanskiy
URL:https://lhep.jinr.ru/event/spetsializirovannyj-seminar-im-a-m-baldina-relyativistskaya-yadernaya-fizika-i-polyarizatsionnye-yavleniya-791/
LOCATION:онлайн
END:VEVENT
BEGIN:VEVENT
DTSTART;TZID=Europe/Moscow:20210210T110000
DTEND;TZID=Europe/Moscow:20210210T120000
DTSTAMP:20260423T064550
CREATED:20210706T072310Z
LAST-MODIFIED:20210706T072310Z
UID:538-1612954800-1612958400@lhep.jinr.ru
SUMMARY:Специализированный семинар им. А. М. Балдина “Релятивистская ядерная физика и поляризационные явления” № 788
DESCRIPTION:В. Ужинский\, А. Галоян\, \n«FTF Geant4 модель хорошо «работает» в ядро-ядерных взаимодействиях при энергиях меньше 10 ГэВ». \nАнализируя экспериментальные данные коллаборации NA61/SHINE о ядро-ядерных взаимодействиях при энергиях 5.1\, 6.1\, 7.6\, 8.8\, 11.9 и 16.8 GeV (Li-7 + Li-9 and Ar-40 + Sc-45) в рамках модели FTF (Fritiof) пакета Geant4\, мы нашли\, что модель FTF хорошо описывает экспериментальные данные при энергиях ниже 10 ГэВ. При более высоких энергиях модель недооценивает рождение π+\, π-\, K+ и K- мезонов\, так как образование кварк-глюонной плазмы (КГП) не учтено в модели FTF. Впервые достигнуто хорошее описание спектров протонов. Некоторые расхождения между расчетами и экспериментальными данными могут быть объяснены неточностью данных. Ранее коллаборацией NA49 было найдено\, что переход к КГП имеет место при энергии порядка 7 ГэВ. Решен старый вопрос модели Fritiof о возбуждении налетающих адронов в много-частичных взаимодействиях. \nВеб-сайт: \nhttps://jinr.webex.com/join/stepan.shimanskiy
URL:https://lhep.jinr.ru/event/spetsializirovannyj-seminar-im-a-m-baldina-relyativistskaya-yadernaya-fizika-i-polyarizatsionnye-yavleniya-788/
LOCATION:онлайн
END:VEVENT
END:VCALENDAR