BEGIN:VCALENDAR
VERSION:2.0
PRODID:-//ЛАБОРАТОРИЯ ФИЗИКИ ВЫСОКИХ ЭНЕРГИЙ - ECPv5.8.1//NONSGML v1.0//EN
CALSCALE:GREGORIAN
METHOD:PUBLISH
X-WR-CALNAME:ЛАБОРАТОРИЯ ФИЗИКИ ВЫСОКИХ ЭНЕРГИЙ
X-ORIGINAL-URL:https://lhep.jinr.ru
X-WR-CALDESC:События для ЛАБОРАТОРИЯ ФИЗИКИ ВЫСОКИХ ЭНЕРГИЙ
BEGIN:VTIMEZONE
TZID:Europe/Moscow
BEGIN:STANDARD
TZOFFSETFROM:+0300
TZOFFSETTO:+0300
TZNAME:MSK
DTSTART:20210101T000000
END:STANDARD
END:VTIMEZONE
BEGIN:VEVENT
DTSTART;TZID=Europe/Moscow:20210217T110000
DTEND;TZID=Europe/Moscow:20210217T120000
DTSTAMP:20260423T064551
CREATED:20210706T072203Z
LAST-MODIFIED:20210706T072203Z
UID:536-1613559600-1613563200@lhep.jinr.ru
SUMMARY:Специализированный семинар им. А.М. Балдина “Релятивистская ядерная физика и поляризационные явления” № 789
DESCRIPTION:Рогочая Е.П. \n«Отчет по результатам деятельности в преддверии выборов на должность ведущего научного сотрудника». \nНа семинаре будут представлены результаты работы докладчика в должности старшего научного сотрудника в рамках темы 1088: ALICE\, Исследование взаимодействий пучков тяжелых ионов и протонов на LHC. Будут рассмотрены основные физические результаты анализа экспериментальных данных ALICE и приведены доклады и публикации по материалам работ по данному анализу\, вклад докладчика в которые является либо принципиальным\, либо существенным. Будет описан вклад докладчика в научную и организационную деятельность группы ALICE-ОИЯИ в самом ОИЯИ\, и в коллаборации ALICE. Также будут упомянуты гранты\, полученные за работу в отчетный период. \nВеб-сайт: https://jinr.webex.com/join/stepan.shimanskiy
URL:https://lhep.jinr.ru/event/spetsializirovannyj-seminar-im-a-m-baldina-relyativistskaya-yadernaya-fizika-i-polyarizatsionnye-yavleniya-789/
LOCATION:онлайн
END:VEVENT
END:VCALENDAR