BEGIN:VCALENDAR
VERSION:2.0
PRODID:-//ЛАБОРАТОРИЯ ФИЗИКИ ВЫСОКИХ ЭНЕРГИЙ - ECPv5.8.1//NONSGML v1.0//EN
CALSCALE:GREGORIAN
METHOD:PUBLISH
X-WR-CALNAME:ЛАБОРАТОРИЯ ФИЗИКИ ВЫСОКИХ ЭНЕРГИЙ
X-ORIGINAL-URL:https://lhep.jinr.ru
X-WR-CALDESC:События для ЛАБОРАТОРИЯ ФИЗИКИ ВЫСОКИХ ЭНЕРГИЙ
BEGIN:VTIMEZONE
TZID:Europe/Moscow
BEGIN:STANDARD
TZOFFSETFROM:+0300
TZOFFSETTO:+0300
TZNAME:MSK
DTSTART:20210101T000000
END:STANDARD
END:VTIMEZONE
BEGIN:VEVENT
DTSTART;TZID=Europe/Moscow:20210219T113000
DTEND;TZID=Europe/Moscow:20210219T123000
DTSTAMP:20260423T064550
CREATED:20210706T071953Z
LAST-MODIFIED:20210706T071953Z
UID:534-1613734200-1613737800@lhep.jinr.ru
SUMMARY:Общелабораторный семинар
DESCRIPTION:А.М. Таратин. \nОбзор результатов исследований каналирования и объемного отражения заряженных частиц высоких энергий в изогнутых кристаллах и их использования для коллимации пучка ускорителя (на пучках SPS и LHC в CERN – эксперимент UA9). \nРассматриваются экспериментальные исследования по отклонению заряженных частиц высоких энергий в коротких изогнутых кристаллах при плоскостном и осевом каналировании\, а также при объемном отражении и объемном многократном отражении. Обсуждаются результаты экспериментов по коллимации гало пучка SPS и LHC с использованием изогнутых кристаллов. \nСсылка для подключения: https://us04web.zoom.us/j/75256835779?pwd=Q2dQbTZKc3Z6bXdnRVA2bEl5ZG50UT09
URL:https://lhep.jinr.ru/event/obshhelaboratornyj-seminar-3/
LOCATION:онлайн
END:VEVENT
END:VCALENDAR