BEGIN:VCALENDAR
VERSION:2.0
PRODID:-//ЛАБОРАТОРИЯ ФИЗИКИ ВЫСОКИХ ЭНЕРГИЙ - ECPv5.8.1//NONSGML v1.0//EN
CALSCALE:GREGORIAN
METHOD:PUBLISH
X-WR-CALNAME:ЛАБОРАТОРИЯ ФИЗИКИ ВЫСОКИХ ЭНЕРГИЙ
X-ORIGINAL-URL:https://lhep.jinr.ru
X-WR-CALDESC:События для ЛАБОРАТОРИЯ ФИЗИКИ ВЫСОКИХ ЭНЕРГИЙ
BEGIN:VTIMEZONE
TZID:Europe/Moscow
BEGIN:STANDARD
TZOFFSETFROM:+0300
TZOFFSETTO:+0300
TZNAME:MSK
DTSTART:20210101T000000
END:STANDARD
END:VTIMEZONE
BEGIN:VEVENT
DTSTART;VALUE=DATE:20210419
DTEND;VALUE=DATE:20210421
DTSTAMP:20260423T034444
CREATED:20210701T084746Z
LAST-MODIFIED:20210701T084746Z
UID:418-1618790400-1618963199@lhep.jinr.ru
SUMMARY:7-е Коллаборационное совещание эксперимента BM@N на установке NICA 19-20 апреля 2021
DESCRIPTION:Совещание будет посвящено завершению монтажа экспериментальной установки для будущей программы по физике тяжелых ионов. Будут обсуждаться планы проведения следующих экспериментальных сеансов BM@N осенью 2021 года и весной 2022 года. Будет доложено о статусе анализа данных о рождении странных частиц и фрагментов ядер в пучках углерода и аргона. \nОрганизационные вопросы Коллаборации BM@N будут рассмотрены в ходе отдельного заседания ИС\, которое состоится 19 апреля.
URL:https://lhep.jinr.ru/event/7-e-kollaboratsionnoe-soveshhanie-eksperimenta-bm-n-na-ustanovke-nica-19-20-aprelya-2021/
LOCATION:конференц-зал корпуса №3 ЛФВЭ
ATTACH;FMTTYPE=image/jpeg:https://lhep.jinr.ru/wp-content/uploads/2021/07/7th-BM-N_small.jpg
END:VEVENT
END:VCALENDAR