BEGIN:VCALENDAR
VERSION:2.0
PRODID:-//ЛАБОРАТОРИЯ ФИЗИКИ ВЫСОКИХ ЭНЕРГИЙ - ECPv5.8.1//NONSGML v1.0//EN
CALSCALE:GREGORIAN
METHOD:PUBLISH
X-WR-CALNAME:ЛАБОРАТОРИЯ ФИЗИКИ ВЫСОКИХ ЭНЕРГИЙ
X-ORIGINAL-URL:https://lhep.jinr.ru
X-WR-CALDESC:События для ЛАБОРАТОРИЯ ФИЗИКИ ВЫСОКИХ ЭНЕРГИЙ
BEGIN:VTIMEZONE
TZID:Europe/Moscow
BEGIN:STANDARD
TZOFFSETFROM:+0300
TZOFFSETTO:+0300
TZNAME:MSK
DTSTART:20210101T000000
END:STANDARD
END:VTIMEZONE
BEGIN:VEVENT
DTSTART;VALUE=DATE:20210421
DTEND;VALUE=DATE:20210424
DTSTAMP:20260423T034444
CREATED:20210701T083658Z
LAST-MODIFIED:20210701T083658Z
UID:412-1618963200-1619222399@lhep.jinr.ru
SUMMARY:VII Коллаборационное совещание эксперимента MPD на установке NICA 21-23 апреля 2021
DESCRIPTION:Будет доложено о последних работах\, проведенных в павильоне MPD\, относящиеся к сборке компонентов детектора MPD. Будет обсуждаться состояние готовности компонентов всех систем установки\, а также график их монтажа\, ввода в эксплуатацию и калибровки. Будут представлены результаты исследований\, выполняемых в рамках пяти рабочих групп по физике эксперимента MPD. Также будет обсуждаться вычислительная и программная инфраструктура для обработки данных. \n 
URL:https://lhep.jinr.ru/event/vii-kollaboratsionnoe-soveshhanie-eksperimenta-mpd-na-ustanovke-nica-21-23-aprelya-2021/
LOCATION:конференц-зал корпуса №3 ЛФВЭ
ATTACH;FMTTYPE=image/jpeg:https://lhep.jinr.ru/wp-content/uploads/2021/07/7th-MPD_small.jpg
END:VEVENT
END:VCALENDAR