BEGIN:VCALENDAR
VERSION:2.0
PRODID:-//ЛАБОРАТОРИЯ ФИЗИКИ ВЫСОКИХ ЭНЕРГИЙ - ECPv5.8.1//NONSGML v1.0//EN
CALSCALE:GREGORIAN
METHOD:PUBLISH
X-WR-CALNAME:ЛАБОРАТОРИЯ ФИЗИКИ ВЫСОКИХ ЭНЕРГИЙ
X-ORIGINAL-URL:https://lhep.jinr.ru
X-WR-CALDESC:События для ЛАБОРАТОРИЯ ФИЗИКИ ВЫСОКИХ ЭНЕРГИЙ
BEGIN:VTIMEZONE
TZID:Europe/Moscow
BEGIN:STANDARD
TZOFFSETFROM:+0300
TZOFFSETTO:+0300
TZNAME:MSK
DTSTART:20210101T000000
END:STANDARD
END:VTIMEZONE
BEGIN:VEVENT
DTSTART;TZID=Europe/Moscow:20210525T110000
DTEND;TZID=Europe/Moscow:20210525T130000
DTSTAMP:20260423T022620
CREATED:20210519T105125Z
LAST-MODIFIED:20210525T145634Z
UID:157-1621940400-1621947600@lhep.jinr.ru
SUMMARY:НТС ЛФВЭ
DESCRIPTION:25 мая в 11:00 в конференц-зале корп. 3  состоится заседание НТС ЛФВЭ. \nСсылка на онлайн-трансляцию: https://jinr.webex.com/meet/BERDS \nПовестка дня: \n\nВыборы на научные должности: \n\n\n\n\nСмирнов В.Л.\nСНС\, НЭОСМТ\, Сектор 4\, Гр.1\n\n\nРамздорф А.Ю.\nНС\, НЭОИКН\, Сектор 3\n\n\nДонец Е.Д.\nГНС\, НЭОИКН\, Сектор 3               Отделение 1\n\n\nЗайцев А.А.\nНС\, НЭОФТИ\, Сектор 4                 Отделение 2\n\n\nБайгарашев Д.        ШД\nМНС\, НЭОССАРП\, Сектор 1\n\n\nЧмиль В.Б.\nВНС\,  НЭОССАРП\, Сектор 2\n\n\nНикитин Д.Н.\nНС\, НЭОМД\, Сектор 4                   Отделение 3\n\n\nШайхатденов Б.Г.  ШД\nСНС\, СФА\n\n\nСагимбаева Н.        ШД\nНС\, НЭОФТИ-LHC\, Сектор 3\n\n\nКоробицын А.А.\nНС\, НЭОФТИ-RHIC\, Сектор 1     Отделение 4\n\n\n\n2. Утверждение темы диссертационного исследования Петухову А.С. \n3. Разное.
URL:https://lhep.jinr.ru/event/nts-lfve/
END:VEVENT
END:VCALENDAR