BEGIN:VCALENDAR
VERSION:2.0
PRODID:-//ЛАБОРАТОРИЯ ФИЗИКИ ВЫСОКИХ ЭНЕРГИЙ - ECPv5.8.1//NONSGML v1.0//EN
CALSCALE:GREGORIAN
METHOD:PUBLISH
X-WR-CALNAME:ЛАБОРАТОРИЯ ФИЗИКИ ВЫСОКИХ ЭНЕРГИЙ
X-ORIGINAL-URL:https://lhep.jinr.ru
X-WR-CALDESC:События для ЛАБОРАТОРИЯ ФИЗИКИ ВЫСОКИХ ЭНЕРГИЙ
BEGIN:VTIMEZONE
TZID:Europe/Moscow
BEGIN:STANDARD
TZOFFSETFROM:+0300
TZOFFSETTO:+0300
TZNAME:MSK
DTSTART:20210101T000000
END:STANDARD
END:VTIMEZONE
BEGIN:VEVENT
DTSTART;VALUE=DATE:20210923
DTEND;VALUE=DATE:20210925
DTSTAMP:20260422T190228
CREATED:20210819T123654Z
LAST-MODIFIED:20210819T123654Z
UID:674-1632355200-1632527999@lhep.jinr.ru
SUMMARY:130-я сессия Ученого совета ОИЯИ
DESCRIPTION:130-я сессия Ученого совета ОИЯИ \n23 — 24 сентября 2021 г. Дом международных совещаний\, Дубна \nПрограмма сессии Ученого совета
URL:https://lhep.jinr.ru/event/130-ya-sessiya-uchenogo-soveta-oiyai/
LOCATION:Дом международных совещаний\, Дубна
END:VEVENT
END:VCALENDAR