BEGIN:VCALENDAR
VERSION:2.0
PRODID:-//ЛАБОРАТОРИЯ ФИЗИКИ ВЫСОКИХ ЭНЕРГИЙ - ECPv5.8.1//NONSGML v1.0//EN
CALSCALE:GREGORIAN
METHOD:PUBLISH
X-WR-CALNAME:ЛАБОРАТОРИЯ ФИЗИКИ ВЫСОКИХ ЭНЕРГИЙ
X-ORIGINAL-URL:https://lhep.jinr.ru
X-WR-CALDESC:События для ЛАБОРАТОРИЯ ФИЗИКИ ВЫСОКИХ ЭНЕРГИЙ
BEGIN:VTIMEZONE
TZID:Europe/Moscow
BEGIN:STANDARD
TZOFFSETFROM:+0300
TZOFFSETTO:+0300
TZNAME:MSK
DTSTART:20220101T000000
END:STANDARD
END:VTIMEZONE
BEGIN:VEVENT
DTSTART;VALUE=DATE:20221003
DTEND;VALUE=DATE:20221007
DTSTAMP:20260420T044602
CREATED:20220803T120833Z
LAST-MODIFIED:20220803T120833Z
UID:1256-1664755200-1665100799@lhep.jinr.ru
SUMMARY:Совещание коллаборации SPD/NICA
DESCRIPTION:Очередное совещание коллаборации SPD/NICA состоится с 3 по 6 октября в ОИЯИ.\nВстреча пройдет в гибридном формате\, т. е. будет доступно участие через ZOOM. Однако упор будет сделан на личное участие. Для участия в совещании необходимо зарегистрироваться на сайте: \nhttps://indico.jinr.ru/event/3189/ \nПрограмма встречи будет доступна позднее.
URL:https://lhep.jinr.ru/event/soveshhanie-kollaboratsii-spd-nica/
LOCATION:ЛФВЭ
END:VEVENT
END:VCALENDAR